BEGIN:VCALENDAR
VERSION:2.0
PRODID:-//CONCORDIA - ECPv5.16.1//NONSGML v1.0//EN
CALSCALE:GREGORIAN
METHOD:PUBLISH
X-WR-CALNAME:CONCORDIA
X-ORIGINAL-URL:https://www.concordia-h2020.eu
X-WR-CALDESC:Events for CONCORDIA
BEGIN:VTIMEZONE
TZID:UTC
BEGIN:STANDARD
TZOFFSETFROM:+0000
TZOFFSETTO:+0000
TZNAME:UTC
DTSTART:20210101T000000
END:STANDARD
END:VTIMEZONE
BEGIN:VEVENT
DTSTART;VALUE=DATE:20210726
DTEND;VALUE=DATE:20210727
DTSTAMP:20260424T021113
CREATED:20210312T093723Z
LAST-MODIFIED:20210312T093723Z
UID:4478-1627257600-1627343999@www.concordia-h2020.eu
SUMMARY:2021 IEEE CSR Workshop on Cyber Ranges and Security Training (CRST)
DESCRIPTION:
URL:https://www.concordia-h2020.eu/cybersecurityevent/2021-ieee-csr-workshop-on-cyber-ranges-and-security-training-crst/
CATEGORIES:Workshops
END:VEVENT
END:VCALENDAR