BEGIN:VCALENDAR
VERSION:2.0
PRODID:-//CONCORDIA - ECPv5.16.1//NONSGML v1.0//EN
CALSCALE:GREGORIAN
METHOD:PUBLISH
X-WR-CALNAME:CONCORDIA
X-ORIGINAL-URL:https://www.concordia-h2020.eu
X-WR-CALDESC:Events for CONCORDIA
BEGIN:VTIMEZONE
TZID:UTC
BEGIN:STANDARD
TZOFFSETFROM:+0000
TZOFFSETTO:+0000
TZNAME:UTC
DTSTART:20190101T000000
END:STANDARD
END:VTIMEZONE
BEGIN:VEVENT
DTSTART;VALUE=DATE:20191216
DTEND;VALUE=DATE:20191219
DTSTAMP:20260423T170610
CREATED:20191119T094914Z
LAST-MODIFIED:20191119T095223Z
UID:1662-1576454400-1576713599@www.concordia-h2020.eu
SUMMARY:Certified Information Security Manager CISM -certification and exam preparationCONCORDIA Courses
DESCRIPTION:
URL:https://www.concordia-h2020.eu/cybersecurityevent/certified-information-security-manager-cism-certification-and-exam-preparation/
CATEGORIES:CONCORDIA Courses
END:VEVENT
END:VCALENDAR