BEGIN:VCALENDAR
VERSION:2.0
PRODID:-//CONCORDIA - ECPv5.16.1//NONSGML v1.0//EN
CALSCALE:GREGORIAN
METHOD:PUBLISH
X-WR-CALNAME:CONCORDIA
X-ORIGINAL-URL:https://www.concordia-h2020.eu
X-WR-CALDESC:Events for CONCORDIA
BEGIN:VTIMEZONE
TZID:UTC
BEGIN:STANDARD
TZOFFSETFROM:+0000
TZOFFSETTO:+0000
TZNAME:UTC
DTSTART:20220101T000000
END:STANDARD
END:VTIMEZONE
BEGIN:VEVENT
DTSTART;VALUE=DATE:20220731
DTEND;VALUE=DATE:20220806
DTSTAMP:20260420T081006
CREATED:20220201T123734Z
LAST-MODIFIED:20220201T123734Z
UID:6424-1659225600-1659743999@www.concordia-h2020.eu
SUMMARY:Cyber Security in e-Governance (summer school)
DESCRIPTION:Participants will learn about legal aspects of e-governance\, the requirements for electronic identity and how critical information infrastructure is protected in the public sector. From the start-up and e-service creation side\, the programme will cover the topics of design process and prototyping\, business model validation and approach lecturers by successful Estonian CyberTech companies. Finally\, participants will be gathered with real-life experience with cyber security incidents and vulnerability detection. Moreover\, one day (8-hour long) hands-on cyber exercise will be organized with mentors and experts for improving practical skills and understanding about CyberTech solutions.
URL:https://www.concordia-h2020.eu/cybersecurityevent/cyber-security-in-e-governance-summer-school/
CATEGORIES:CONCORDIA Courses
END:VEVENT
END:VCALENDAR