BEGIN:VCALENDAR
VERSION:2.0
PRODID:-//CONCORDIA - ECPv5.16.1//NONSGML v1.0//EN
CALSCALE:GREGORIAN
METHOD:PUBLISH
X-WR-CALNAME:CONCORDIA
X-ORIGINAL-URL:https://www.concordia-h2020.eu
X-WR-CALDESC:Events for CONCORDIA
BEGIN:VTIMEZONE
TZID:UTC
BEGIN:STANDARD
TZOFFSETFROM:+0000
TZOFFSETTO:+0000
TZNAME:UTC
DTSTART:20220101T000000
END:STANDARD
END:VTIMEZONE
BEGIN:VEVENT
DTSTART;VALUE=DATE:20220926
DTEND;VALUE=DATE:20220928
DTSTAMP:20260420T092207
CREATED:20220315T093311Z
LAST-MODIFIED:20220315T093311Z
UID:6779-1664150400-1664323199@www.concordia-h2020.eu
SUMMARY:CyberHOT Summer School
DESCRIPTION:
URL:https://www.concordia-h2020.eu/cybersecurityevent/cyberhot-summer-school-2/
END:VEVENT
END:VCALENDAR