BEGIN:VCALENDAR
VERSION:2.0
PRODID:-//CONCORDIA - ECPv5.16.1//NONSGML v1.0//EN
CALSCALE:GREGORIAN
METHOD:PUBLISH
X-WR-CALNAME:CONCORDIA
X-ORIGINAL-URL:https://www.concordia-h2020.eu
X-WR-CALDESC:Events for CONCORDIA
BEGIN:VTIMEZONE
TZID:UTC
BEGIN:STANDARD
TZOFFSETFROM:+0000
TZOFFSETTO:+0000
TZNAME:UTC
DTSTART:20200101T000000
END:STANDARD
END:VTIMEZONE
BEGIN:VEVENT
DTSTART;VALUE=DATE:20200712
DTEND;VALUE=DATE:20200806
DTSTAMP:20260425T013140
CREATED:20191209T084843Z
LAST-MODIFIED:20191209T085402Z
UID:1949-1594512000-1596671999@www.concordia-h2020.eu
SUMMARY:Data Mining and Business Intelligence for Cyber SecurityCONCORDIA Courses
DESCRIPTION:Learn about the basic tools of data mining and the utilization of machine learning techniques for solving cyber security problems\, and apply them to a concrete project. A fieldtrip is also envisaged.
URL:https://www.concordia-h2020.eu/cybersecurityevent/data-mining-and-business-intelligence-for-cyber-securityconcordia-courses/
CATEGORIES:CONCORDIA Courses
END:VEVENT
END:VCALENDAR