BEGIN:VCALENDAR
VERSION:2.0
PRODID:-//CONCORDIA - ECPv5.16.1//NONSGML v1.0//EN
CALSCALE:GREGORIAN
METHOD:PUBLISH
X-WR-CALNAME:CONCORDIA
X-ORIGINAL-URL:https://www.concordia-h2020.eu
X-WR-CALDESC:Events for CONCORDIA
BEGIN:VTIMEZONE
TZID:UTC
BEGIN:STANDARD
TZOFFSETFROM:+0000
TZOFFSETTO:+0000
TZNAME:UTC
DTSTART:20210101T000000
END:STANDARD
END:VTIMEZONE
BEGIN:VEVENT
DTSTART;TZID=UTC:20210407T140000
DTEND;TZID=UTC:20210407T163000
DTSTAMP:20260419T190917
CREATED:20210330T085618Z
LAST-MODIFIED:20210330T085618Z
UID:4526-1617804000-1617813000@www.concordia-h2020.eu
SUMMARY:Defining Scope and Content of the European Marketplace of Cyber Ranges Goal
DESCRIPTION:Defining Scope and Content of the European Marketplace of Cyber Ranges Goal: Explore three key concepts which relate to the technical\, organisational and cross-border dimension of cyber ranges. Target audience: Cyber Range Focus Group members and pilot projects experts. Date: 7th April\, 2021 Time: 14:00 – 16:30 CET Location: online (invitation link will be sent after acceptance of registration) \nLink to register:https://forms.gle/R64Xt2RfJ5eijYdc7 \nDeadline for registration: 6 April 2021 at 14:00 CET
URL:https://www.concordia-h2020.eu/cybersecurityevent/defining-scope-and-content-of-the-european-marketplace-of-cyber-ranges-goal/
LOCATION:Online  Event
CATEGORIES:Workshops
END:VEVENT
END:VCALENDAR