BEGIN:VCALENDAR
VERSION:2.0
PRODID:-//CONCORDIA - ECPv5.16.1//NONSGML v1.0//EN
CALSCALE:GREGORIAN
METHOD:PUBLISH
X-WR-CALNAME:CONCORDIA
X-ORIGINAL-URL:https://www.concordia-h2020.eu
X-WR-CALDESC:Events for CONCORDIA
BEGIN:VTIMEZONE
TZID:UTC
BEGIN:STANDARD
TZOFFSETFROM:+0000
TZOFFSETTO:+0000
TZNAME:UTC
DTSTART:20200101T000000
END:STANDARD
END:VTIMEZONE
BEGIN:VEVENT
DTSTART;VALUE=DATE:20200930
DTEND;VALUE=DATE:20201003
DTSTAMP:20260422T140417
CREATED:20200507T131650Z
LAST-MODIFIED:20200507T131808Z
UID:2650-1601424000-1601683199@www.concordia-h2020.eu
SUMMARY:DIGILIENCE 2020 Conference Conferences
DESCRIPTION:
URL:https://www.concordia-h2020.eu/cybersecurityevent/digilience-2020-conference-conferences/
LOCATION:Varna Bulgaria\, Bulgaria
CATEGORIES:Conferences
END:VEVENT
END:VCALENDAR