BEGIN:VCALENDAR
VERSION:2.0
PRODID:-//CONCORDIA - ECPv5.16.1//NONSGML v1.0//EN
CALSCALE:GREGORIAN
METHOD:PUBLISH
X-WR-CALNAME:CONCORDIA
X-ORIGINAL-URL:https://www.concordia-h2020.eu
X-WR-CALDESC:Events for CONCORDIA
BEGIN:VTIMEZONE
TZID:UTC
BEGIN:STANDARD
TZOFFSETFROM:+0000
TZOFFSETTO:+0000
TZNAME:UTC
DTSTART:20210101T000000
END:STANDARD
END:VTIMEZONE
BEGIN:VEVENT
DTSTART;VALUE=DATE:20210422
DTEND;VALUE=DATE:20210424
DTSTAMP:20260422T043723
CREATED:20210421T113831Z
LAST-MODIFIED:20210421T113831Z
UID:4827-1619049600-1619222399@www.concordia-h2020.eu
SUMMARY:eLearning and Software for Education(eLSE 2021)
DESCRIPTION:International Scientific Conference
URL:https://www.concordia-h2020.eu/cybersecurityevent/elearning-and-software-for-educationelse-2021/
LOCATION:Online  Event
CATEGORIES:Conferences
END:VEVENT
END:VCALENDAR