BEGIN:VCALENDAR
VERSION:2.0
PRODID:-//CONCORDIA - ECPv5.16.1//NONSGML v1.0//EN
CALSCALE:GREGORIAN
METHOD:PUBLISH
X-WR-CALNAME:CONCORDIA
X-ORIGINAL-URL:https://www.concordia-h2020.eu
X-WR-CALDESC:Events for CONCORDIA
BEGIN:VTIMEZONE
TZID:UTC
BEGIN:STANDARD
TZOFFSETFROM:+0000
TZOFFSETTO:+0000
TZNAME:UTC
DTSTART:20200101T000000
END:STANDARD
END:VTIMEZONE
BEGIN:VEVENT
DTSTART;TZID=UTC:20201214T100000
DTEND;TZID=UTC:20201214T133000
DTSTAMP:20260422T193146
CREATED:20201119T234405Z
LAST-MODIFIED:20201119T234405Z
UID:3748-1607940000-1607952600@www.concordia-h2020.eu
SUMMARY:Financial Sector Infrastructure Cyber-Physical Security and Regulatory Standards Workshop
DESCRIPTION:CRITICAL-CHAINS with the collaboration of leading financial Sector Partners and related EC-funded projects is pleased to announce a workshop focused on financial services sector\, Risk-based Cyber-Physical Security Authentication and Accountability Models for Monitoring\, Compliance Assurance and Regulatory Harmonisation challenges. \nRead more
URL:https://www.concordia-h2020.eu/cybersecurityevent/financial-sector-infrastructure-cyber-physical-security-and-regulatory-standards-workshop/
LOCATION:Webinar
CATEGORIES:Webinar
END:VEVENT
END:VCALENDAR