BEGIN:VCALENDAR
VERSION:2.0
PRODID:-//CONCORDIA - ECPv5.16.1//NONSGML v1.0//EN
CALSCALE:GREGORIAN
METHOD:PUBLISH
X-WR-CALNAME:CONCORDIA
X-ORIGINAL-URL:https://www.concordia-h2020.eu
X-WR-CALDESC:Events for CONCORDIA
BEGIN:VTIMEZONE
TZID:UTC
BEGIN:STANDARD
TZOFFSETFROM:+0000
TZOFFSETTO:+0000
TZNAME:UTC
DTSTART:20210101T000000
END:STANDARD
END:VTIMEZONE
BEGIN:VEVENT
DTSTART;TZID=UTC:20210409T120000
DTEND;TZID=UTC:20210409T133000
DTSTAMP:20260420T232938
CREATED:20210401T111939Z
LAST-MODIFIED:20210401T112012Z
UID:4584-1617969600-1617975000@www.concordia-h2020.eu
SUMMARY:IoT Day Roundtable
DESCRIPTION:To celebrate the Global IoT Day\, on the 9th of April 2021\, we are holding an online discussion on the latest developments of the industry with some of the premier partners of IoT research. \nThe Roundtable will begin with the introduction of the 4 H2020 research & innovation and coordination & support projects that aim to develop a secure\, accountable and privacy-friendly IoT architecture. \nFollowing the introduction\, we will have a moderated discussion between the participants\, focusing on: \n\nKey IoT security challenges\nThe role of EU R&D projects in solving IoT security weaknesses\nThe potential of an EU wide IoT security standard\nIoT visions – What to expect in 5 and 10 years’ time.
URL:https://www.concordia-h2020.eu/cybersecurityevent/iot-day-roundtable/
LOCATION:Webinar
CATEGORIES:Webinar
END:VEVENT
END:VCALENDAR