BEGIN:VCALENDAR
VERSION:2.0
PRODID:-//CONCORDIA - ECPv5.16.1//NONSGML v1.0//EN
CALSCALE:GREGORIAN
METHOD:PUBLISH
X-WR-CALNAME:CONCORDIA
X-ORIGINAL-URL:https://www.concordia-h2020.eu
X-WR-CALDESC:Events for CONCORDIA
BEGIN:VTIMEZONE
TZID:UTC
BEGIN:STANDARD
TZOFFSETFROM:+0000
TZOFFSETTO:+0000
TZNAME:UTC
DTSTART:20210101T000000
END:STANDARD
END:VTIMEZONE
BEGIN:VEVENT
DTSTART;TZID=UTC:20210421T130000
DTEND;TZID=UTC:20210421T150000
DTSTAMP:20260422T060253
CREATED:20210330T082651Z
LAST-MODIFIED:20210330T082651Z
UID:4520-1619010000-1619017200@www.concordia-h2020.eu
SUMMARY:KYPO Cyber Range Platform 101 Webinar
DESCRIPTION:This webinar will cover the essentials of the KYPO Cyber Range Platform. In two talks we wll explain how to deploy the platform and how to create simple cybersecurity training.
URL:https://www.concordia-h2020.eu/cybersecurityevent/kypo-cyber-range-platform-101-webinar/
LOCATION:Online  Event
CATEGORIES:Webinar
END:VEVENT
END:VCALENDAR