BEGIN:VCALENDAR
VERSION:2.0
PRODID:-//CONCORDIA - ECPv5.16.1//NONSGML v1.0//EN
CALSCALE:GREGORIAN
METHOD:PUBLISH
X-WR-CALNAME:CONCORDIA
X-ORIGINAL-URL:https://www.concordia-h2020.eu
X-WR-CALDESC:Events for CONCORDIA
BEGIN:VTIMEZONE
TZID:UTC
BEGIN:STANDARD
TZOFFSETFROM:+0000
TZOFFSETTO:+0000
TZNAME:UTC
DTSTART:20220101T000000
END:STANDARD
END:VTIMEZONE
BEGIN:VEVENT
DTSTART;VALUE=DATE:20220104
DTEND;VALUE=DATE:20220106
DTSTAMP:20260425T062819
CREATED:20220315T093018Z
LAST-MODIFIED:20220315T093018Z
UID:6777-1641254400-1641427199@www.concordia-h2020.eu
SUMMARY:TELECOM Nancy Capture The Flag (CTF)
DESCRIPTION:
URL:https://www.concordia-h2020.eu/cybersecurityevent/telecom-nancy-capture-the-flag-ctf/
END:VEVENT
END:VCALENDAR