BEGIN:VCALENDAR
VERSION:2.0
PRODID:-//CONCORDIA - ECPv5.16.1//NONSGML v1.0//EN
CALSCALE:GREGORIAN
METHOD:PUBLISH
X-WR-CALNAME:CONCORDIA
X-ORIGINAL-URL:https://www.concordia-h2020.eu
X-WR-CALDESC:Events for CONCORDIA
BEGIN:VTIMEZONE
TZID:UTC
BEGIN:STANDARD
TZOFFSETFROM:+0000
TZOFFSETTO:+0000
TZNAME:UTC
DTSTART:20220101T000000
END:STANDARD
END:VTIMEZONE
BEGIN:VEVENT
DTSTART;VALUE=DATE:20220927
DTEND;VALUE=DATE:20220930
DTSTAMP:20260420T092859
CREATED:20220317T100628Z
LAST-MODIFIED:20220317T100628Z
UID:6791-1664236800-1664495999@www.concordia-h2020.eu
SUMMARY:TRANSITS II
DESCRIPTION:
URL:https://www.concordia-h2020.eu/cybersecurityevent/transits-ii-4/
END:VEVENT
END:VCALENDAR