BEGIN:VCALENDAR
VERSION:2.0
PRODID:-//CONCORDIA - ECPv5.16.1//NONSGML v1.0//EN
CALSCALE:GREGORIAN
METHOD:PUBLISH
X-WR-CALNAME:CONCORDIA
X-ORIGINAL-URL:https://www.concordia-h2020.eu
X-WR-CALDESC:Events for CONCORDIA
BEGIN:VTIMEZONE
TZID:UTC
BEGIN:STANDARD
TZOFFSETFROM:+0000
TZOFFSETTO:+0000
TZNAME:UTC
DTSTART:20200101T000000
END:STANDARD
END:VTIMEZONE
BEGIN:VEVENT
DTSTART;TZID=UTC:20201214T163000
DTEND;TZID=UTC:20201214T180000
DTSTAMP:20260422T161543
CREATED:20201127T013843Z
LAST-MODIFIED:20201227T060250Z
UID:3757-1607963400-1607968800@www.concordia-h2020.eu
SUMMARY:Women Entrepreneurship Webinar
DESCRIPTION:
URL:https://www.concordia-h2020.eu/cybersecurityevent/women-entrepreneurship-webinar/
LOCATION:Webinar
CATEGORIES:Webinar
END:VEVENT
END:VCALENDAR